BEGIN:VCALENDAR
METHOD:PUBLISH
PRODID:-//Weblication CMS
VERSION:2.0
BEGIN:VEVENT
SUMMARY:Männerchor, Konzert und Theater
DTSTART;VALUE=DATE:20240120
DTEND;VALUE=DATE:20240121
DESCRIPTION:
LOCATION:Mehrzweckhalle Diessbach
UID:https://www.diessbach.ch/de/online-schalter/kalender/termine/Maennerchor-Konzert-und-Theater.php
URL:https://www.diessbach.ch/de/online-schalter/kalender/termine/Maennerchor-Konzert-und-Theater.php
END:VEVENT
END:VCALENDAR