BEGIN:VCALENDAR
METHOD:PUBLISH
PRODID:-//Weblication CMS
VERSION:2.0
BEGIN:VEVENT
SUMMARY:Männerchor, Konzert und Theater
DTSTART;VALUE=DATE:20240203
DTEND;VALUE=DATE:20240204
DESCRIPTION:
LOCATION:Mehrzweckhalle Diessbach
UID:https://www.diessbach.ch/de/online-schalter/kalender/termine/Maennerchor-Konzert-und-Theater-3.php
URL:https://www.diessbach.ch/de/online-schalter/kalender/termine/Maennerchor-Konzert-und-Theater-3.php
END:VEVENT
END:VCALENDAR