BEGIN:VCALENDAR
METHOD:PUBLISH
PRODID:-//Weblication CMS
VERSION:2.0
BEGIN:VEVENT
SUMMARY:Hornussergesellschaft, Generalversammlung 
DTSTART;VALUE=DATE:20240119
DTEND;VALUE=DATE:20240120
DESCRIPTION:
LOCATION:
UID:https://www.diessbach.ch/de/online-schalter/kalender/termine/Hornussergesellschaft-Generalversammlung.php
URL:https://www.diessbach.ch/de/online-schalter/kalender/termine/Hornussergesellschaft-Generalversammlung.php
END:VEVENT
END:VCALENDAR